BEGIN:VCALENDAR
VERSION:2.0
PRODID:-//WP EVENT Manager Ical//NONSGML Events //EN
CALSCALE:GREGORIAN

BEGIN:VEVENT

DTSTART:20221204T143000Z
DTEND:20221204T160000Z
LOCATION:The Courtyard, Edgar Street, Hereford
SUMMARY:Christmas Family Rave
DESCRIPTION:<p>Christmas Family Rave at The Courtyard It’s the most wonderful time of the year, and what better way to get into the Christmas spirit than with our festive family rave! Full of bubbles, balloons and all of your favourite tunes, crimbo classics included – bring your crew and dance your way into the festive season.&#8230;</p>
<p>The post <a href="https://raring2go.co.uk/event/christmas-family-rave/">Christmas Family Rave</a> appeared first on <a href="https://raring2go.co.uk">Raring2go!</a>.</p>

END:VEVENT
END:VCALENDAR
