BEGIN:VCALENDAR
VERSION:2.0
PRODID:-//WP EVENT Manager Ical//NONSGML Events //EN
CALSCALE:GREGORIAN

BEGIN:VEVENT

DTSTART:20231208T163000Z
DTEND:20240107T233000Z
LOCATION:Festival Leisure Park, Festival Way, Basildon
SUMMARY:Christmas Corner
DESCRIPTION:<p>Festival Leisure Park Presents Christmas Corner #festivechristmascorner Christmas Corner is being brought to you by Festival Leisure Park from December 8th 2023 until January 7th 2024! Join the team for some festive family fun this Christmas at Festival Leisure Park, Basildon. Christmas Corner at Festival Leisure Park gives you the chance to be able to toast&#8230;</p>
<p>The post <a href="https://raring2go.co.uk/event/christmas-corner/">Christmas Corner</a> appeared first on <a href="https://raring2go.co.uk">Raring2go!</a>.</p>

END:VEVENT
END:VCALENDAR
