BEGIN:VCALENDAR
VERSION:2.0
PRODID:-//WP EVENT Manager Ical//NONSGML Events //EN
CALSCALE:GREGORIAN

BEGIN:VEVENT

DTSTART:20230827T110000Z
DTEND:20230827T180000Z
LOCATION:Hagley Park and Visitor Centre, Hagley, Stourbridge
SUMMARY:Chill on the Hill, Family Food Festival
DESCRIPTION:<p>A family food festival hosted by &#8216;Eat, Street, Repeat.&#8217; Come along to our family-friendly local street food event, where we will be showcasing some of the Midland&#8217;s finest selection of food suppliers. You can expect to enjoy: Award-winning street food Live local music Acoustic acts Chilled DJ sets Cocktail bars Kids entertainment Plus the picturesque&#8230;</p>
<p>The post <a href="https://raring2go.co.uk/event/chill-on-the-hill-family-food-festival/">Chill on the Hill, Family Food Festival</a> appeared first on <a href="https://raring2go.co.uk">Raring2go!</a>.</p>

END:VEVENT
END:VCALENDAR
