BEGIN:VCALENDAR
VERSION:2.0
PRODID:-//WP EVENT Manager Ical//NONSGML Events //EN
CALSCALE:GREGORIAN

BEGIN:VEVENT

DTSTART:20260517T063458Z
DTEND:20260517T063458Z
LOCATION:Newcastle Racecourse, Racecourse, Newcastle upon Tyne
SUMMARY:Children’s Cancer Run, Newcastle Racecourse
DESCRIPTION:<p>The Children’s Cancer Run is coming back to Newcastle Racecourse on Sunday 17 May – and you can be part of it! The Children’s Cancer Run is an annual cross country fun run and activity day that raises money to help make life better for children with cancer. It’s organised by local charity Children’s Cancer&#8230;</p>
<p>The post <a href="https://raring2go.co.uk/event/childrens-cancer-run-newcastle-racecourse/">Children’s Cancer Run, Newcastle Racecourse</a> appeared first on <a href="https://raring2go.co.uk">Raring2go!</a>.</p>

END:VEVENT
END:VCALENDAR
