BEGIN:VCALENDAR
VERSION:2.0
PRODID:-//WP EVENT Manager Ical//NONSGML Events //EN
CALSCALE:GREGORIAN

BEGIN:VEVENT

DTSTART:20240813T100000Z
DTEND:20240813T130000Z
LOCATION:Moseley Cricket Club, Streetsbrook Road, Shirley, Solihull
SUMMARY:Cheeky Monkey’s Tea Party (hosted by NCT Solihull)
DESCRIPTION:<p>Join Us for a Fun Family Event! NCT Solihull is excited to invite you to our Cheeky Monkey&#8217;s Tea Party on Tuesday, 13th August at Moseley Cricket Club. Here&#8217;s what we have planned so far: Arts &#38; Crafts &#8211; including handprint and footprint art.&#8211; Soft Play &#8211; A fun and safe area for kids.&#8211; Food Stalls &#8211; Delicious options including an ice&#8230;</p>
<p>The post <a href="https://raring2go.co.uk/event/cheeky-monkeys-tea-party-hosted-by-nct-solihull/">Cheeky Monkey&#8217;s Tea Party (hosted by NCT Solihull)</a> appeared first on <a href="https://raring2go.co.uk">Raring2go!</a>.</p>

END:VEVENT
END:VCALENDAR
