BEGIN:VCALENDAR
VERSION:2.0
PRODID:-//WP EVENT Manager Ical//NONSGML Events //EN
CALSCALE:GREGORIAN

BEGIN:VEVENT

DTSTART:20240630T230000Z
DTEND:20240730T230000Z
LOCATION:Wycombe Museum, Priory Avenue, High Wycombe
SUMMARY:Chair Bodgers Pub Tour (Self-Guided)
DESCRIPTION:<p>Explore the fascinating connections between Chilterns pubs and chairmaking. Follow a route around local towns and villages on this 8 points around the Central Chilterns, all accessible by car. The trail is available as a downloadable PDF. Accessibility info: Please check individual pubs for accessibility information. Facilities info: Toilets are available at all of the pubs on&#8230;</p>
<p>The post <a href="https://raring2go.co.uk/event/chair-bodgers-pub-tour-self-guided/">Chair Bodgers Pub Tour (Self-Guided)</a> appeared first on <a href="https://raring2go.co.uk">Raring2go!</a>.</p>

END:VEVENT
END:VCALENDAR
