BEGIN:VCALENDAR
VERSION:2.0
PRODID:-//WP EVENT Manager Ical//NONSGML Events //EN
CALSCALE:GREGORIAN

BEGIN:VEVENT

DTSTART:20240828T090000Z
DTEND:20240828T101500Z
LOCATION:Broadway Museum & Art Gallery, High Street, Broadway
SUMMARY:Ceramic Tile Painting at Broadway Museum & Art Gallery
DESCRIPTION:<p>Ceramic Tile Painting at Broadway Museum &#38; Art Gallery Decorate your own ceramic tile with beautiful inks. Get ready to unleash your creativity and artistic skills with our “Decorate Your Own Ceramic Tile” activity! This fun and engaging session allows children to design and personalize their very own ceramic tile using a variety of bright&#8230;</p>
<p>The post <a href="https://raring2go.co.uk/event/ceramic-tile-painting/">Ceramic Tile Painting at Broadway Museum &amp; Art Gallery</a> appeared first on <a href="https://raring2go.co.uk">Raring2go!</a>.</p>

END:VEVENT
END:VCALENDAR
