BEGIN:VCALENDAR
VERSION:2.0
PRODID:-//WP EVENT Manager Ical//NONSGML Events //EN
CALSCALE:GREGORIAN

BEGIN:VEVENT

DTSTART:20250728T182529Z
DTEND:20250829T182529Z
LOCATION:Guildford County School, Farnham Road, Guildford
SUMMARY:Camp England – Guildford
DESCRIPTION:<p>Camp England offers dynamic holiday camps at Guildford County School, providing children aged 5–13 with engaging activities during school breaks. Their multi-sports camps feature a variety of sports, promoting fun and fitness. Dance &#38; drama camps allow kids to explore performing arts, enhancing creativity and confidence. With experienced coaches and a focus on enjoyment, Camp&#8230;</p>
<p>The post <a href="https://raring2go.co.uk/event/camp-england-guildford/">Camp England &#8211; Guildford</a> appeared first on <a href="https://raring2go.co.uk">Raring2go!</a>.</p>

END:VEVENT
END:VCALENDAR
