BEGIN:VCALENDAR
VERSION:2.0
PRODID:-//WP EVENT Manager Ical//NONSGML Events //EN
CALSCALE:GREGORIAN

BEGIN:VEVENT

DTSTART:20251130T110207Z
DTEND:20251224T110207Z
LOCATION:Bressingham Steam Museum & Gardens, Low Road, Diss
SUMMARY:Bressingham at Christmas
DESCRIPTION:<p>Join us for a festive adventure at Bressingham Steam Museum this Christmas! Experience the magic of the season with a visit to our enchanting grotto, where Father Christmas, Mother Christmas, and their elves await to greet children aged 12 and under with special gifts. After your grotto visit, explore our festive exhibition hall, be amazed&#8230;</p>
<p>The post <a href="https://raring2go.co.uk/event/bressingham-at-christmas/">Bressingham at Christmas</a> appeared first on <a href="https://raring2go.co.uk">Raring2go!</a>.</p>

END:VEVENT
END:VCALENDAR
