BEGIN:VCALENDAR
VERSION:2.0
PRODID:-//WP EVENT Manager Ical//NONSGML Events //EN
CALSCALE:GREGORIAN

BEGIN:VEVENT

DTSTART:20250208T144305Z
DTEND:20250406T134305Z
LOCATION:Compton Verney, Warwick
SUMMARY:Breathing the Forest at Compton Verney
DESCRIPTION:<p>&#8216;Breathing with the Forest&#8217; at Compton Verney is an immersive video installation that illuminates the ecosystem surrounding a capinuri tree (Maquira coriacea) in the Colombian Amazon. The installation recreates a real plot of Amazonian forest in its full majesty and astounding detail, revealing the beauty and fragility of these tropical environments as it bringing to&#8230;</p>
<p>The post <a href="https://raring2go.co.uk/event/breathing-the-forest-at-compton-verney/">Breathing the Forest at Compton Verney</a> appeared first on <a href="https://raring2go.co.uk">Raring2go!</a>.</p>

END:VEVENT
END:VCALENDAR
