BEGIN:VCALENDAR
VERSION:2.0
PRODID:-//WP EVENT Manager Ical//NONSGML Events //EN
CALSCALE:GREGORIAN

BEGIN:VEVENT

DTSTART:20241207T100000Z
DTEND:20241208T130000Z
LOCATION:The Ardleigh, Ardleigh Green Road, Hornchurch
SUMMARY:Breakfast with Santa in Gidea Park
DESCRIPTION:<p>Breakfast with Santa in Gidea Park Breakfast with Santa in Gidea Park is taking place across both 7th and 8th December 2024 at The Ardleigh, on Ardleigh Green Road, Havering, Essex. Treat your family to a magical morning with Santa from 10am-1pm. For just £10.99 per person, enjoy a delicious breakfast and a special gift&#8230;</p>
<p>The post <a href="https://raring2go.co.uk/event/breakfast-with-santa-in-gidea-park/">Breakfast with Santa in Gidea Park</a> appeared first on <a href="https://raring2go.co.uk">Raring2go!</a>.</p>

END:VEVENT
END:VCALENDAR
