BEGIN:VCALENDAR
VERSION:2.0
PRODID:-//WP EVENT Manager Ical//NONSGML Events //EN
CALSCALE:GREGORIAN

BEGIN:VEVENT

DTSTART:20251206T083000Z
DTEND:20251224T113000Z
LOCATION:Stonham Barns, Pettaugh Rd, Stonham Aspal, Stowmarket
SUMMARY:Breakfast with Santa at Stonham Barns
DESCRIPTION:<p>Treat your little ones to breakfast with Santa and his team to make this a special occasion they will never forget. Enjoy a delicious breakfast in Award Winning Café 24 (Best Café in Suffolk 2024 &#38; 2025), then hop onto our festive train to our theatre venue where you and your party will be welcomed&#8230;</p>
<p>The post <a href="https://raring2go.co.uk/event/breakfast-with-santa-at-stonham-barns/">Breakfast with Santa at Stonham Barns</a> appeared first on <a href="https://raring2go.co.uk">Raring2go!</a>.</p>

END:VEVENT
END:VCALENDAR
