BEGIN:VCALENDAR
VERSION:2.0
PRODID:-//WP EVENT Manager Ical//NONSGML Events //EN
CALSCALE:GREGORIAN

BEGIN:VEVENT

DTSTART:20260422T064014Z
DTEND:20260422T064014Z
LOCATION:Various Locations
SUMMARY:Boogy Pumps Camps – Guildford and Farnham
DESCRIPTION:<p>Dance, drama, and singing classes for ages 2.5–14. Holiday camps finish with a showcase performance—fun, confidence, and stage magic every term! Book now!</p>
<p>The post <a href="https://raring2go.co.uk/event/boogy-pumps-guildford-and-farnham/">Boogy Pumps Camps &#8211; Guildford and Farnham</a> appeared first on <a href="https://raring2go.co.uk">Raring2go!</a>.</p>

END:VEVENT
END:VCALENDAR
