BEGIN:VCALENDAR
VERSION:2.0
PRODID:-//WP EVENT Manager Ical//NONSGML Events //EN
CALSCALE:GREGORIAN

BEGIN:VEVENT

DTSTART:20241123T090000Z
DTEND:20241123T170000Z
LOCATION:Market Street Blyth
SUMMARY:Blyth Christmas Market and Lights On
DESCRIPTION:<p>Blyth Christmas Market and Lights On</p>
<p>The post <a href="https://raring2go.co.uk/event/blyth-christmas-market-and-lights-on/">Blyth Christmas Market and Lights On</a> appeared first on <a href="https://raring2go.co.uk">Raring2go!</a>.</p>

END:VEVENT
END:VCALENDAR
