BEGIN:VCALENDAR
VERSION:2.0
PRODID:-//WP EVENT Manager Ical//NONSGML Events //EN
CALSCALE:GREGORIAN

BEGIN:VEVENT

DTSTART:20230924T090000Z
DTEND:20230924T150000Z
LOCATION:197 Manor Lane, Sheffield
SUMMARY:Become a Tudor Doctor Day
DESCRIPTION:<p>Being a doctor (or a patient) in Tudor times could be quite gruesome. There were all sorts of nasty diseases, infections and horrible injuries you could suffer from. Mary Queen of Scots even had her own surgeon and as time went on she needed all the tips and tricks to prop herself up. Now is&#8230;</p>
<p>The post <a href="https://raring2go.co.uk/event/become-a-tudor-doctor-day/">Become a Tudor Doctor Day</a> appeared first on <a href="https://raring2go.co.uk">Raring2go!</a>.</p>

END:VEVENT
END:VCALENDAR
