BEGIN:VCALENDAR
VERSION:2.0
PRODID:-//WP EVENT Manager Ical//NONSGML Events //EN
CALSCALE:GREGORIAN

BEGIN:VEVENT

DTSTART:20260811T140326Z
DTEND:20260815T140326Z
LOCATION:Theatre Royal, Grey Street, Newcastle upon Tyne
SUMMARY:Barnum, Newcastle Theatre Royal
DESCRIPTION:<p>Matt Rawle stars as the world’s greatest showman. Enter the dazzling world of P.T. Barnum, where imagination and ambition know no bounds. Hand in hand with wife Charity, Barnum’s life and career twists and turns as he schemes and dreams his way to headier heights. Matt Rawle (Cabaret, Evita, Les Misérables) will take centre stage as the legendary&#8230;</p>
<p>The post <a href="https://raring2go.co.uk/event/barnum-newcastle-theatre-royal/">Barnum, Newcastle Theatre Royal</a> appeared first on <a href="https://raring2go.co.uk">Raring2go!</a>.</p>

END:VEVENT
END:VCALENDAR
