BEGIN:VCALENDAR
VERSION:2.0
PRODID:-//WP EVENT Manager Ical//NONSGML Events //EN
CALSCALE:GREGORIAN

BEGIN:VEVENT

DTSTART:20241013T121500Z
DTEND:20241013T141500Z
LOCATION:Lightcliffe Academy, Stoney Lane, Lightcliffe, Halifax
SUMMARY:Baby & Childrens Nearly New Sale (Mum2mum Market) Halifax
DESCRIPTION:<p>SUN 13TH OCT 2024 &#8211; Lightcliffe Academy, Brighouse &#8211; Halifax  &#8211; Doors Open 13:15 – 15:15 &#160;  40 Stalls selling excellent condition baby and children’s goods at bargain prices. Well-known brands at a fraction of high street prices. Everything imaginable for your little ones. &#160; JOIN THE EVENT ON MUM2MUM MARKET YORKSHIRE FACEBOOK PAGE FOR&#8230;</p>
<p>The post <a href="https://raring2go.co.uk/event/baby-childrens-nearly-new-sale-mum2mum-market-halifax-4/">Baby &amp; Childrens Nearly New Sale (Mum2mum Market) Halifax</a> appeared first on <a href="https://raring2go.co.uk">Raring2go!</a>.</p>

END:VEVENT
END:VCALENDAR
