BEGIN:VCALENDAR
VERSION:2.0
PRODID:-//WP EVENT Manager Ical//NONSGML Events //EN
CALSCALE:GREGORIAN

BEGIN:VEVENT

DTSTART:20260804T133756Z
DTEND:20260808T133756Z
LOCATION:Theatre Royal, Grey Street, Newcastle upon Tyne
SUMMARY:Annie, Newcastle Theatre Royal
DESCRIPTION:<p>The smash-hit West End production of ANNIE, the world’s favourite family musical, returns to Newcastle starring Claire Sweeney as Miss Hannigan! Set in 1930s New York, brave young Annie is forced to live a life of misery at Miss Hannigan’s orphanage. Her luck soon changes when she’s chosen to spend a fairytale Christmas with famous billionaire, Oliver&#8230;</p>
<p>The post <a href="https://raring2go.co.uk/event/annie-newcastle-theatre-royal/">Annie, Newcastle Theatre Royal</a> appeared first on <a href="https://raring2go.co.uk">Raring2go!</a>.</p>

END:VEVENT
END:VCALENDAR
