BEGIN:VCALENDAR
VERSION:2.0
PRODID:-//WP EVENT Manager Ical//NONSGML Events //EN
CALSCALE:GREGORIAN

BEGIN:VEVENT

DTSTART:20240717T094421Z
DTEND:20240818T094421Z
LOCATION:Various locations
SUMMARY:Altrincham’s Petal Pathway
DESCRIPTION:<p>Altrincham&#8217;s Petal Pathway is a town-wide, self-guided, sustainable family flower trail. The start of the trail will coincide with the RHS Flower Show at Tatton Park, starting on Wednesday 17th July, and it will run up until Sunday 18th August. The project is aligned with the RHS’s vision to enrich everyone’s life through plants and&#8230;</p>
<p>The post <a href="https://raring2go.co.uk/event/altrinchams-petal-pathway/">Altrincham&#8217;s Petal Pathway</a> appeared first on <a href="https://raring2go.co.uk">Raring2go!</a>.</p>

END:VEVENT
END:VCALENDAR
