BEGIN:VCALENDAR
VERSION:2.0
PRODID:-//WP EVENT Manager Ical//NONSGML Events //EN
CALSCALE:GREGORIAN

BEGIN:VEVENT

DTSTART:20250920T143155Z
DTEND:20250920T143155Z
LOCATION:The Altrincham Garrick Playhouse, Barrington Road, Altrincham
SUMMARY:Wicked – Cinema Screening
DESCRIPTION:<p>Wicked, the untold story of the witches of Oz, stars Emmy, Grammy and Tony winning powerhouse Cynthia Erivo (Harriet, The Color Purple) as Elphaba, a young woman, misunderstood because of her unusual green skin, who has yet to discover her true power, and Grammy-winning, multi-platinum recording artist and global super-star Ariana Grande as Glinda, a&#8230;</p>
<p>The post <a href="https://raring2go.co.uk/event/altrincham-garrick/">Wicked &#8211; Cinema Screening</a> appeared first on <a href="https://raring2go.co.uk">Raring2go!</a>.</p>

END:VEVENT
END:VCALENDAR
