BEGIN:VCALENDAR
VERSION:2.0
PRODID:-//WP EVENT Manager Ical//NONSGML Events //EN
CALSCALE:GREGORIAN

BEGIN:VEVENT

DTSTART:20251115T120000Z
DTEND:20251115T173000Z
LOCATION:Aldershot
SUMMARY:Aldershot Christmas Cracker
DESCRIPTION:<p>Each year, we start the countdown to Christmas at the magical Aldershot Christmas Cracker! In 2024, the fun included over 35 craft, food and community stalls, a nativity farm and donkeys, Juggling Jake, Lego brick building, birds of prey, free children’s Christmas crafts, face painting, brass bands and a full line-up of live entertainment across&#8230;</p>
<p>The post <a href="https://raring2go.co.uk/event/aldershot-christmas-cracker-2025/">Aldershot Christmas Cracker</a> appeared first on <a href="https://raring2go.co.uk">Raring2go!</a>.</p>

END:VEVENT
END:VCALENDAR
