BEGIN:VCALENDAR
VERSION:2.0
PRODID:-//WP EVENT Manager Ical//NONSGML Events //EN
CALSCALE:GREGORIAN

BEGIN:VEVENT

DTSTART:20241217T000000Z
DTEND:20241229T000000Z
LOCATION:Stantonbury Theatre, Stantonbury, Milton Keynes
SUMMARY:Aladdin
DESCRIPTION:<p>RARE Pantomimes returns to Stantonbury for their next professional pantomime! This classic tale tells the story of Aladdin, the poor street urchin who falls in love with a beautiful Princess but is thwarted at every opportunity by the evil scheming Abernazer, advisor to the Queen. Will Aladdin keep the lamp – what would your three wishes be? Will Aladdin finally get&#8230;</p>
<p>The post <a href="https://raring2go.co.uk/event/aladdin/">Aladdin</a> appeared first on <a href="https://raring2go.co.uk">Raring2go!</a>.</p>

END:VEVENT
END:VCALENDAR
