BEGIN:VCALENDAR
VERSION:2.0
PRODID:-//WP EVENT Manager Ical//NONSGML Events //EN
CALSCALE:GREGORIAN

BEGIN:VEVENT

DTSTART:20251121T084854Z
DTEND:20251231T084854Z
LOCATION:Aglow, The Auckland Project, Bishop Auckland
SUMMARY:AGLOW
DESCRIPTION:<p>Auckland Palace’s dazzling light trail will illuminate the skies of Bishop Auckland this Christmas. AGLOW promises to be one of the most spectacular Christmas light trails in the North East. With incredible illuminations and some of the largest light installations in the country, AGLOW is a must-see experience for all the family. Sensory-friendly sessions: Thursday 27th&#8230;</p>
<p>The post <a href="https://raring2go.co.uk/event/aglow/">AGLOW</a> appeared first on <a href="https://raring2go.co.uk">Raring2go!</a>.</p>

END:VEVENT
END:VCALENDAR
