BEGIN:VCALENDAR
VERSION:2.0
PRODID:-//WP EVENT Manager Ical//NONSGML Events //EN
CALSCALE:GREGORIAN

BEGIN:VEVENT

DTSTART:20240914T090000Z
DTEND:20240914T144500Z
LOCATION:Alice Holt Forest
SUMMARY:Activity Day at Alice Holt Forest
DESCRIPTION:<p>Get ready for a day packed with fun for the whole family at Alice Holt Forest! Are you ready for our very first activity day? Activities include Laser tag, Archery, Zorb football and Club throwing / Sucker archery! The prices are: Laser Tag &#8211; £5 Archery &#8211; £5 Zorb football &#8211; £3 Club throwing /&#8230;</p>
<p>The post <a href="https://raring2go.co.uk/event/activity-day-at-alice-holt-forest/">Activity Day at Alice Holt Forest</a> appeared first on <a href="https://raring2go.co.uk">Raring2go!</a>.</p>

END:VEVENT
END:VCALENDAR
