BEGIN:VCALENDAR
VERSION:2.0
PRODID:-//WP EVENT Manager Ical//NONSGML Events //EN
CALSCALE:GREGORIAN

BEGIN:VEVENT

DTSTART:20260330T070000Z
DTEND:20260410T160000Z
LOCATION:Haybridge High School and Sixth Form, Brake Lane, Hagley, Stourbridge
SUMMARY:Active Camps by Aspire Sports
DESCRIPTION:<p>Hagley Active Camps Looking for safe, affordable, flexible childcare this school holiday? Ofsted-registered Aspire Active Camps in Hagley offer action-packed days of sports and physical activity that keep your kids healthy, happy and having fun over the school holidays. Where: Haybridge High School, Brake Lane, Hagley, Stourbridge DY8 2XS. When: Monday 30th March &#8211; Friday&#8230;</p>
<p>The post <a href="https://raring2go.co.uk/event/active-camps-by-aspire-sports-4/">Active Camps by Aspire Sports</a> appeared first on <a href="https://raring2go.co.uk">Raring2go!</a>.</p>

END:VEVENT
END:VCALENDAR
