BEGIN:VCALENDAR
VERSION:2.0
PRODID:-//WP EVENT Manager Ical//NONSGML Events //EN
CALSCALE:GREGORIAN

BEGIN:VEVENT

DTSTART:20260220T110239Z
DTEND:20260221T110239Z
LOCATION:The Hullabaloo, Borough Road, Darlington
SUMMARY:A Square World
DESCRIPTION:<p>A Square World is a story of friends who enjoy the same routine day after day, each day is the same until an unexpected change is forced upon just one of them. This accidental happening throws everyone into disarray, the friends are suddenly divided into those who can and the one who can’t. The friends&#8230;</p>
<p>The post <a href="https://raring2go.co.uk/event/a-square-world/">A Square World</a> appeared first on <a href="https://raring2go.co.uk">Raring2go!</a>.</p>

END:VEVENT
END:VCALENDAR
