BEGIN:VCALENDAR
VERSION:2.0
PRODID:-//WP EVENT Manager Ical//NONSGML Events //EN
CALSCALE:GREGORIAN

BEGIN:VEVENT

DTSTART:20221026T172237Z
DTEND:20230101T182237Z
LOCATION:Royal Shakespeare Theatre, Waterside, Stratford-upon-Avon
SUMMARY:A Christmas Carol at The RSC
DESCRIPTION:<p>The smash hit of Christmas past, A Christmas Carol, returns to the Royal Shakespeare Theatre by popular demand. In 1843, Charles Dickens decided to write a political manifesto, exposing and condemning the abject misery of the Victorian poor. Instead, he wrote one of the most enduring popular short stories ever written. In one ghostly Christmas&#8230;</p>
<p>The post <a href="https://raring2go.co.uk/event/a-christmas-carol-at-the-rsc/">A Christmas Carol at The RSC</a> appeared first on <a href="https://raring2go.co.uk">Raring2go!</a>.</p>

END:VEVENT
END:VCALENDAR
