BEGIN:VCALENDAR
VERSION:2.0
PRODID:-//WP EVENT Manager Ical//NONSGML Events //EN
CALSCALE:GREGORIAN

BEGIN:VEVENT

DTSTART:20230512T080000Z
DTEND:20230514T150000Z
LOCATION:Station Cottages, Winchcombe, Cheltenham GL54 5LD
SUMMARY:2023 Cotswold Festival of Steam
DESCRIPTION:<p>Remembering local scenes, this year&#8217;s GWSR Cotswold Festival of Steam is inspired by the huge variety on the railway network around Cheltenham and Gloucester during the heyday of steam. Fast expresses, interregional trains from lines long since closed, local workings and industrial networks, the range was huge. Our home fleet will run alongside visiting locos.</p>
<p>The post <a href="https://raring2go.co.uk/event/2023-cotswold-festival-of-steam/">2023 Cotswold Festival of Steam</a> appeared first on <a href="https://raring2go.co.uk">Raring2go!</a>.</p>

END:VEVENT
END:VCALENDAR
