BEGIN:VCALENDAR
VERSION:2.0
PRODID:-//WP EVENT Manager Ical//NONSGML Events //EN
CALSCALE:GREGORIAN

BEGIN:VEVENT

DTSTART:20260515T090000Z
DTEND:20260517T213000Z
LOCATION:Black Country Living Museum, Discovery Way, Dudley
SUMMARY:1960’s Weekend at Black Country Living Museum
DESCRIPTION:<p>Take a trip back to the swinging ’60s in the heart of the Black Country Explore our historic streets, meet costumed characters, tuck into proper Black Country fittle, and discover how the Black Country changed during one of Britain&#8217;s most iconic era. Whether you remember the decade first-hand or are discovering it for the very&#8230;</p>
<p>The post <a href="https://raring2go.co.uk/event/1960s-weekend-at-black-country-living-museum/">1960&#8217;s Weekend at Black Country Living Museum</a> appeared first on <a href="https://raring2go.co.uk">Raring2go!</a>.</p>

END:VEVENT
END:VCALENDAR
