BEGIN:VCALENDAR
VERSION:2.0
PRODID:-//WP EVENT Manager Ical//NONSGML Events //EN
CALSCALE:GREGORIAN

BEGIN:VEVENT

DTSTART:20241217T190000Z
DTEND:20250105T170000Z
LOCATION:Theatre Royal Brighton, New Road, Brighton and Hove, Brighton
SUMMARY:101 Dalmatians – The Musical
DESCRIPTION:<p>101 Dalmatians &#8211; The Musical is coming to the Theatre Royal, Brighton! This classic canine caper is brought to life with clever puppetry, show-stopping choreography, witty songs and irresistible puppies! When fashionista Cruella de Vil plots to swipe all the Dalmatian puppies in town to create her fabulous new fur coat, there’s trouble ahead for Pongo&#8230;</p>
<p>The post <a href="https://raring2go.co.uk/event/101-dalmatians-the-musical-2/">101 Dalmatians &#8211; The Musical</a> appeared first on <a href="https://raring2go.co.uk">Raring2go!</a>.</p>

END:VEVENT
END:VCALENDAR
